BEGIN:VCALENDAR
VERSION:2.0
PRODID:-//Samarpan Hindu Temple - ECPv5.1.0//NONSGML v1.0//EN
CALSCALE:GREGORIAN
METHOD:PUBLISH
X-WR-CALNAME:Samarpan Hindu Temple
X-ORIGINAL-URL:https://www.samarpantemple.org
X-WR-CALDESC:Events for Samarpan Hindu Temple
BEGIN:VTIMEZONE
TZID:America/New_York
BEGIN:DAYLIGHT
TZOFFSETFROM:-0500
TZOFFSETTO:-0400
TZNAME:EDT
DTSTART:20240310T070000
END:DAYLIGHT
BEGIN:STANDARD
TZOFFSETFROM:-0400
TZOFFSETTO:-0500
TZNAME:EST
DTSTART:20241103T060000
END:STANDARD
END:VTIMEZONE
BEGIN:VEVENT
DTSTART;TZID=America/New_York:20241123T000000
DTEND;TZID=America/New_York:20241123T000000
DTSTAMP:20260423T010813
CREATED:20231015T115827Z
LAST-MODIFIED:20231015T115827Z
UID:7749-1732320000-1732320000@www.samarpantemple.org
SUMMARY:Kartak Vad 8
DESCRIPTION:
URL:https://www.samarpantemple.org/calender/kartak-vad-8-4/
CATEGORIES:Religious
END:VEVENT
BEGIN:VEVENT
DTSTART;TZID=America/New_York:20241123T000000
DTEND;TZID=America/New_York:20241123T000000
DTSTAMP:20260423T010813
CREATED:20231015T115829Z
LAST-MODIFIED:20231015T115829Z
UID:7750-1732320000-1732320000@www.samarpantemple.org
SUMMARY:Sundarkand 4 to 6 PM
DESCRIPTION:
URL:https://www.samarpantemple.org/calender/sundarkand-4-to-6-pm/
CATEGORIES:Religious
END:VEVENT
END:VCALENDAR