BEGIN:VCALENDAR
VERSION:2.0
PRODID:-//Samarpan Hindu Temple - ECPv5.1.0//NONSGML v1.0//EN
CALSCALE:GREGORIAN
METHOD:PUBLISH
X-WR-CALNAME:Samarpan Hindu Temple
X-ORIGINAL-URL:https://www.samarpantemple.org
X-WR-CALDESC:Events for Samarpan Hindu Temple
BEGIN:VTIMEZONE
TZID:America/New_York
BEGIN:DAYLIGHT
TZOFFSETFROM:-0500
TZOFFSETTO:-0400
TZNAME:EDT
DTSTART:20240310T070000
END:DAYLIGHT
BEGIN:STANDARD
TZOFFSETFROM:-0400
TZOFFSETTO:-0500
TZNAME:EST
DTSTART:20241103T060000
END:STANDARD
END:VTIMEZONE
BEGIN:VEVENT
DTSTART;TZID=America/New_York:20241010T000000
DTEND;TZID=America/New_York:20241010T000000
DTSTAMP:20260422T195652
CREATED:20231015T115859Z
LAST-MODIFIED:20231015T115859Z
UID:7838-1728518400-1728518400@www.samarpantemple.org
SUMMARY:Aaso Sud 7
DESCRIPTION:
URL:https://www.samarpantemple.org/calender/aaso-sud-7-3/
CATEGORIES:Religious
END:VEVENT
BEGIN:VEVENT
DTSTART;TZID=America/New_York:20241010T000000
DTEND;TZID=America/New_York:20241010T000000
DTSTAMP:20260422T195652
CREATED:20231015T115859Z
LAST-MODIFIED:20231015T115859Z
UID:7839-1728518400-1728518400@www.samarpantemple.org
SUMMARY:Garba 8 to 10 PM
DESCRIPTION:
URL:https://www.samarpantemple.org/calender/garba-8-to-10-pm-2/
CATEGORIES:Religious
END:VEVENT
END:VCALENDAR