BEGIN:VCALENDAR
VERSION:2.0
PRODID:-//Samarpan Hindu Temple - ECPv5.1.0//NONSGML v1.0//EN
CALSCALE:GREGORIAN
METHOD:PUBLISH
X-WR-CALNAME:Samarpan Hindu Temple
X-ORIGINAL-URL:https://www.samarpantemple.org
X-WR-CALDESC:Events for Samarpan Hindu Temple
BEGIN:VTIMEZONE
TZID:America/New_York
BEGIN:DAYLIGHT
TZOFFSETFROM:-0500
TZOFFSETTO:-0400
TZNAME:EDT
DTSTART:20240310T070000
END:DAYLIGHT
BEGIN:STANDARD
TZOFFSETFROM:-0400
TZOFFSETTO:-0500
TZNAME:EST
DTSTART:20241103T060000
END:STANDARD
END:VTIMEZONE
BEGIN:VEVENT
DTSTART;TZID=America/New_York:20241003T000000
DTEND;TZID=America/New_York:20241003T000000
DTSTAMP:20260423T054338
CREATED:20231015T115906Z
LAST-MODIFIED:20231015T115906Z
UID:7854-1727913600-1727913600@www.samarpantemple.org
SUMMARY:Aaso Sud 1
DESCRIPTION:
URL:https://www.samarpantemple.org/calender/aaso-sud-1-3/
CATEGORIES:Religious
END:VEVENT
BEGIN:VEVENT
DTSTART;TZID=America/New_York:20241003T000000
DTEND;TZID=America/New_York:20241003T000000
DTSTAMP:20260423T054338
CREATED:20231015T115908Z
LAST-MODIFIED:20231015T115908Z
UID:7855-1727913600-1727913600@www.samarpantemple.org
SUMMARY:Navratri Begins
DESCRIPTION:
URL:https://www.samarpantemple.org/calender/navratri-begins/
CATEGORIES:Religious
END:VEVENT
BEGIN:VEVENT
DTSTART;TZID=America/New_York:20241003T000000
DTEND;TZID=America/New_York:20241003T000000
DTSTAMP:20260423T054338
CREATED:20231015T115908Z
LAST-MODIFIED:20231015T115908Z
UID:7856-1727913600-1727913600@www.samarpantemple.org
SUMMARY:Garba 8 to 10 PM
DESCRIPTION:
URL:https://www.samarpantemple.org/calender/garba-8-to-10-pm-7/
CATEGORIES:Religious
END:VEVENT
END:VCALENDAR