BEGIN:VCALENDAR
VERSION:2.0
PRODID:-//Samarpan Hindu Temple - ECPv5.1.0//NONSGML v1.0//EN
CALSCALE:GREGORIAN
METHOD:PUBLISH
X-WR-CALNAME:Samarpan Hindu Temple
X-ORIGINAL-URL:https://www.samarpantemple.org
X-WR-CALDESC:Events for Samarpan Hindu Temple
BEGIN:VTIMEZONE
TZID:America/New_York
BEGIN:DAYLIGHT
TZOFFSETFROM:-0500
TZOFFSETTO:-0400
TZNAME:EDT
DTSTART:20240310T070000
END:DAYLIGHT
BEGIN:STANDARD
TZOFFSETFROM:-0400
TZOFFSETTO:-0500
TZNAME:EST
DTSTART:20241103T060000
END:STANDARD
END:VTIMEZONE
BEGIN:VEVENT
DTSTART;TZID=America/New_York:20240923T000000
DTEND;TZID=America/New_York:20240923T000000
DTSTAMP:20260422T222803
CREATED:20231015T115913Z
LAST-MODIFIED:20231015T115913Z
UID:7871-1727049600-1727049600@www.samarpantemple.org
SUMMARY:Bhadarvo Vad 6
DESCRIPTION:
URL:https://www.samarpantemple.org/calender/bhadarvo-vad-6-3/
CATEGORIES:Religious
END:VEVENT
BEGIN:VEVENT
DTSTART;TZID=America/New_York:20240923T000000
DTEND;TZID=America/New_York:20240923T000000
DTSTAMP:20260422T222803
CREATED:20231015T115913Z
LAST-MODIFIED:20231015T115913Z
UID:7872-1727049600-1727049600@www.samarpantemple.org
SUMMARY:Shiv Puja 6:30 to 7:00 PM
DESCRIPTION:
URL:https://www.samarpantemple.org/calender/shiv-puja-630-to-700-pm-31/
CATEGORIES:Religious
END:VEVENT
END:VCALENDAR