BEGIN:VCALENDAR
VERSION:2.0
PRODID:-//Samarpan Hindu Temple - ECPv5.1.0//NONSGML v1.0//EN
CALSCALE:GREGORIAN
METHOD:PUBLISH
X-WR-CALNAME:Samarpan Hindu Temple
X-ORIGINAL-URL:https://www.samarpantemple.org
X-WR-CALDESC:Events for Samarpan Hindu Temple
BEGIN:VTIMEZONE
TZID:America/New_York
BEGIN:DAYLIGHT
TZOFFSETFROM:-0500
TZOFFSETTO:-0400
TZNAME:EDT
DTSTART:20240310T070000
END:DAYLIGHT
BEGIN:STANDARD
TZOFFSETFROM:-0400
TZOFFSETTO:-0500
TZNAME:EST
DTSTART:20241103T060000
END:STANDARD
END:VTIMEZONE
BEGIN:VEVENT
DTSTART;TZID=America/New_York:20240913T000000
DTEND;TZID=America/New_York:20240913T000000
DTSTAMP:20260422T223243
CREATED:20231015T115922Z
LAST-MODIFIED:20231015T115922Z
UID:7895-1726185600-1726185600@www.samarpantemple.org
SUMMARY:Bhadarvo Sud 10
DESCRIPTION:
URL:https://www.samarpantemple.org/calender/bhadarvo-sud-10-4/
CATEGORIES:Religious
END:VEVENT
BEGIN:VEVENT
DTSTART;TZID=America/New_York:20240913T000000
DTEND;TZID=America/New_York:20240913T000000
DTSTAMP:20260422T223243
CREATED:20231015T115922Z
LAST-MODIFIED:20231015T115922Z
UID:7896-1726185600-1726185600@www.samarpantemple.org
SUMMARY:Ganesh Puja 6 to 7 PM
DESCRIPTION:
URL:https://www.samarpantemple.org/calender/ganesh-puja-6-to-7-pm-5/
CATEGORIES:Religious
END:VEVENT
BEGIN:VEVENT
DTSTART;TZID=America/New_York:20240913T000000
DTEND;TZID=America/New_York:20240913T000000
DTSTAMP:20260422T223243
CREATED:20231015T115922Z
LAST-MODIFIED:20231015T115922Z
UID:7897-1726185600-1726185600@www.samarpantemple.org
SUMMARY:52 Times Dattbavni 2 to 6 PM
DESCRIPTION:
URL:https://www.samarpantemple.org/calender/52-times-dattbavni-2-to-6-pm/
CATEGORIES:Religious
END:VEVENT
END:VCALENDAR