BEGIN:VCALENDAR
VERSION:2.0
PRODID:-//Samarpan Hindu Temple - ECPv5.1.0//NONSGML v1.0//EN
CALSCALE:GREGORIAN
METHOD:PUBLISH
X-WR-CALNAME:Samarpan Hindu Temple
X-ORIGINAL-URL:https://www.samarpantemple.org
X-WR-CALDESC:Events for Samarpan Hindu Temple
BEGIN:VTIMEZONE
TZID:America/New_York
BEGIN:DAYLIGHT
TZOFFSETFROM:-0500
TZOFFSETTO:-0400
TZNAME:EDT
DTSTART:20240310T070000
END:DAYLIGHT
BEGIN:STANDARD
TZOFFSETFROM:-0400
TZOFFSETTO:-0500
TZNAME:EST
DTSTART:20241103T060000
END:STANDARD
END:VTIMEZONE
BEGIN:VEVENT
DTSTART;TZID=America/New_York:20240902T000000
DTEND;TZID=America/New_York:20240902T000000
DTSTAMP:20260422T154801
CREATED:20231015T115931Z
LAST-MODIFIED:20231015T115931Z
UID:7920-1725235200-1725235200@www.samarpantemple.org
SUMMARY:Amavasya
DESCRIPTION:
URL:https://www.samarpantemple.org/calender/amavasya-5/
CATEGORIES:Religious
END:VEVENT
BEGIN:VEVENT
DTSTART;TZID=America/New_York:20240902T000000
DTEND;TZID=America/New_York:20240902T000000
DTSTAMP:20260422T154801
CREATED:20231015T115931Z
LAST-MODIFIED:20231015T115931Z
UID:7921-1725235200-1725235200@www.samarpantemple.org
SUMMARY:Somvati Amavasya
DESCRIPTION:
URL:https://www.samarpantemple.org/calender/somvati-amavasya-2/
CATEGORIES:Religious
END:VEVENT
BEGIN:VEVENT
DTSTART;TZID=America/New_York:20240902T000000
DTEND;TZID=America/New_York:20240902T000000
DTSTAMP:20260422T154801
CREATED:20231015T115931Z
LAST-MODIFIED:20231015T115931Z
UID:7922-1725235200-1725235200@www.samarpantemple.org
SUMMARY:108 Shiv Ling Puja 6 to 7 PM
DESCRIPTION:
URL:https://www.samarpantemple.org/calender/108-shiv-ling-puja-6-to-7-pm/
CATEGORIES:Religious
END:VEVENT
BEGIN:VEVENT
DTSTART;TZID=America/New_York:20240902T000000
DTEND;TZID=America/New_York:20240902T000000
DTSTAMP:20260422T154801
CREATED:20231015T115931Z
LAST-MODIFIED:20231015T115931Z
UID:7923-1725235200-1725235200@www.samarpantemple.org
SUMMARY:Labor Day
DESCRIPTION:
URL:https://www.samarpantemple.org/calender/labor-day-2/
CATEGORIES:Religious
END:VEVENT
END:VCALENDAR