BEGIN:VCALENDAR
VERSION:2.0
PRODID:-//Samarpan Hindu Temple - ECPv5.1.0//NONSGML v1.0//EN
CALSCALE:GREGORIAN
METHOD:PUBLISH
X-WR-CALNAME:Samarpan Hindu Temple
X-ORIGINAL-URL:https://www.samarpantemple.org
X-WR-CALDESC:Events for Samarpan Hindu Temple
BEGIN:VTIMEZONE
TZID:America/New_York
BEGIN:DAYLIGHT
TZOFFSETFROM:-0500
TZOFFSETTO:-0400
TZNAME:EDT
DTSTART:20240310T070000
END:DAYLIGHT
BEGIN:STANDARD
TZOFFSETFROM:-0400
TZOFFSETTO:-0500
TZNAME:EST
DTSTART:20241103T060000
END:STANDARD
END:VTIMEZONE
BEGIN:VEVENT
DTSTART;TZID=America/New_York:20240707T000000
DTEND;TZID=America/New_York:20240707T000000
DTSTAMP:20260423T084539
CREATED:20231015T120017Z
LAST-MODIFIED:20231015T120017Z
UID:8030-1720310400-1720310400@www.samarpantemple.org
SUMMARY:Ashadh Sud 2
DESCRIPTION:
URL:https://www.samarpantemple.org/calender/ashadh-sud-2-2/
CATEGORIES:Religious
END:VEVENT
BEGIN:VEVENT
DTSTART;TZID=America/New_York:20240707T000000
DTEND;TZID=America/New_York:20240707T000000
DTSTAMP:20260423T084539
CREATED:20231015T120017Z
LAST-MODIFIED:20231015T120017Z
UID:8031-1720310400-1720310400@www.samarpantemple.org
SUMMARY:Rathyatra 10 AM to 1 PM
DESCRIPTION:
URL:https://www.samarpantemple.org/calender/rathyatra-10-am-to-1-pm/
CATEGORIES:Religious
END:VEVENT
BEGIN:VEVENT
DTSTART;TZID=America/New_York:20240707T000000
DTEND;TZID=America/New_York:20240707T000000
DTSTAMP:20260423T084539
CREATED:20231015T120018Z
LAST-MODIFIED:20231015T120018Z
UID:8032-1720310400-1720310400@www.samarpantemple.org
SUMMARY:Monthly Bhajan 4:00 to 6:00 PM
DESCRIPTION:
URL:https://www.samarpantemple.org/calender/monthly-bhajan-400-to-600-pm-4/
CATEGORIES:Religious
END:VEVENT
END:VCALENDAR